BEGIN:VCALENDAR
VERSION:2.0
PRODID:Spatie calendar-links
BEGIN:VEVENT
UID:2086b99c5a8dc8c22ccd45c12834173d
SUMMARY:Event withdrawn
DTSTAMP:20251231T125959Z
DTSTART:20251231T125959Z
DTEND:20251231T130000Z
DESCRIPTION:- For more info\, go to: https://events.nsw.scouts.com.au/event/2120
END:VEVENT
END:VCALENDAR