BEGIN:VCALENDAR
VERSION:2.0
PRODID:Spatie calendar-links
BEGIN:VEVENT
UID:8d1ec451152621573d0487314ae4d4f3
SUMMARY:NSW Bushdance 2026 - Newcastle Rovers
DTSTAMP:20260703T080000Z
DTSTART:20260703T080000Z
DTEND:20260705T020000Z
DESCRIPTION:G'day Rovers and welcome to Bushdance 2026 - Save a Horse - hosted at the beautiful Illa Langi Campsite in the Hunter Valley. \n\nBushdance will give you the opportunity to explore this beautiful area of NSW\, enjoy a classic Aussie Bushdance\, and help raise funds for Riding for the Disabled. \n\nThe event officially begins on Saturday afternoon\, however those keen for an adventure are invited to join us earlier for a series of specially catered expeditions on Saturday. \n\nWe can’t wait see you all there! For more info\, go to: https://events.nsw.scouts.com.au/event/2963
LOCATION:Illa Langi Girl Guide Campsite\, Illa Langi Girl Guide Campsite\, Fishers Hill NSW 2421\, Australia
END:VEVENT
END:VCALENDAR