BEGIN:VCALENDAR
VERSION:2.0
PRODID:Spatie calendar-links
BEGIN:VEVENT
UID:02a3962ff77d2585302e4932bdc77d6b
SUMMARY:Armidale Gang Show 2026 “Unwritten – The Future is Ours”
DTSTAMP:20260606T000000Z
DTSTART:20260606T000000Z
DTEND:20260608T040000Z
DESCRIPTION:Armidale Gang Show 2026\n“Unwritten – The Future is Ours” For more info\, go to: https://events.nsw.scouts.com.au/event/3359
LOCATION:O'Connor College\, 39 Kirkwood St\, Armidale NSW 2350
END:VEVENT
END:VCALENDAR