BEGIN:VCALENDAR
VERSION:2.0
PRODID:Spatie calendar-links
BEGIN:VEVENT
UID:ecd06196c2a44d482e995e6fc9e34b79
SUMMARY:MHFA Refresher Course
DTSTAMP:20260515T230000Z
DTSTART:20260515T230000Z
DTEND:20260516T030000Z
DESCRIPTION:MHFA Refresher Ciourse For more info\, go to: https://events.nsw.scouts.com.au/event/3414
LOCATION:South Met TBC
END:VEVENT
END:VCALENDAR