BEGIN:VCALENDAR
VERSION:2.0
PRODID:Spatie calendar-links
BEGIN:VEVENT
UID:94d57027056f8fbff4285b330af0ae4f
SUMMARY:Additional Needs Support and Guidance
DTSTAMP:20260516T040000Z
DTSTART:20260516T040000Z
DTEND:20260516T080000Z
DESCRIPTION:Additional Needs Support and Guidance For more info\, go to: https://events.nsw.scouts.com.au/event/3415
LOCATION:South Met TBC
END:VEVENT
END:VCALENDAR